BEGIN:VCALENDAR
VERSION:2.0
PRODID:-//Indiana Convention Center &amp; Lucas Oil Stadium - ECPv6.15.20//NONSGML v1.0//EN
CALSCALE:GREGORIAN
METHOD:PUBLISH
X-ORIGINAL-URL:https://www.icclos.com
X-WR-CALDESC:Events for Indiana Convention Center &amp; Lucas Oil Stadium
REFRESH-INTERVAL;VALUE=DURATION:PT1H
X-Robots-Tag:noindex
X-PUBLISHED-TTL:PT1H
BEGIN:VTIMEZONE
TZID:America/Indiana/Indianapolis
BEGIN:DAYLIGHT
TZOFFSETFROM:-0500
TZOFFSETTO:-0400
TZNAME:EDT
DTSTART:20250309T070000
END:DAYLIGHT
BEGIN:STANDARD
TZOFFSETFROM:-0400
TZOFFSETTO:-0500
TZNAME:EST
DTSTART:20251102T060000
END:STANDARD
BEGIN:DAYLIGHT
TZOFFSETFROM:-0500
TZOFFSETTO:-0400
TZNAME:EDT
DTSTART:20260308T070000
END:DAYLIGHT
BEGIN:STANDARD
TZOFFSETFROM:-0400
TZOFFSETTO:-0500
TZNAME:EST
DTSTART:20261101T060000
END:STANDARD
BEGIN:DAYLIGHT
TZOFFSETFROM:-0500
TZOFFSETTO:-0400
TZNAME:EDT
DTSTART:20270314T070000
END:DAYLIGHT
BEGIN:STANDARD
TZOFFSETFROM:-0400
TZOFFSETTO:-0500
TZNAME:EST
DTSTART:20271107T060000
END:STANDARD
END:VTIMEZONE
BEGIN:VEVENT
DTSTART;VALUE=DATE:20261026
DTEND;VALUE=DATE:20261027
DTSTAMP:20260423T175001
CREATED:20260406T134058Z
LAST-MODIFIED:20260406T134058Z
UID:10000648-1792972800-1793059199@www.icclos.com
SUMMARY:State Board of Law Admission Ceremony
DESCRIPTION:State Board of Law Admission Ceremony\nOctober 26\, 2026\nHome | Upcoming Events | State Board of Law Admission Ceremony \n\nVenue: Indiana Convention Center\n\nLocation: Sagamore Ballroom 1-5\n\nDoors Open: Daily 10:00am\n\nForecast Attendance: 1\,800\n\nVisit Event Website\n\nMaps & Directions\n\nVirtual Tour\n\nParking\n\nSkywalks\n\nHotels\n\nDining Guide\nFall Admission Ceremony \nThe Fall 2025 Bar Admission Ceremony will take place Friday\, October 24\, 2025 at the Indianapolis Convention Center\, Sagamore Ballroom at 10:00 AM. \nMore Events\nRECENT NEWS  \n\nMonica Brase2024-03-25T11:40:23-04:0012 Days Of USA Volleyball Girls Junior National Championship at Indiana Convention Center Estimated To Result in a $59.3 Million Economic Impact for IndianapolisMonica Brase2024-03-25T11:40:23-04:00June 28th\, 2022| Monica Brase2022-12-21T09:57:45-05:00From summertime concerts to museums in winter\, here are the best times to visit IndianapolisMonica Brase2022-12-21T09:57:45-05:00June 26th\, 2022| Monique Wise2023-02-23T11:42:04-05:00IN Convention Center and Lucas Oil Stadium Achieve GBAC STAR™ Facility AccreditationMonique Wise2023-02-23T11:42:04-05:00January 27th\, 2021|
URL:https://www.icclos.com/event/state-board-of-law-admission-ceremony-4/
LOCATION:Indiana Convention Center and Lucas Oil Stadium\, 100 S. Capitol Avenue\, Indianapolis\, IN\, 46225\, United States
ATTACH;FMTTYPE=image/jpeg:https://www.icclos.com/wp-content/uploads/2026/04/Website-1-2.jpg
ORGANIZER;CN="Indiana Convention Center":MAILTO:info@icclos.com
END:VEVENT
END:VCALENDAR